BEGIN:VCALENDAR
VERSION:2.0
PRODID:-//Heart Centred Reiki - ECPv6.15.16.1//NONSGML v1.0//EN
CALSCALE:GREGORIAN
METHOD:PUBLISH
X-WR-CALNAME:Heart Centred Reiki
X-ORIGINAL-URL:https://heartcentredreiki.com.au
X-WR-CALDESC:Events for Heart Centred Reiki
REFRESH-INTERVAL;VALUE=DURATION:PT1H
X-Robots-Tag:noindex
X-PUBLISHED-TTL:PT1H
BEGIN:VTIMEZONE
TZID:Australia/Melbourne
BEGIN:STANDARD
TZOFFSETFROM:+1100
TZOFFSETTO:+1000
TZNAME:AEST
DTSTART:20250405T160000
END:STANDARD
BEGIN:DAYLIGHT
TZOFFSETFROM:+1000
TZOFFSETTO:+1100
TZNAME:AEDT
DTSTART:20251004T160000
END:DAYLIGHT
BEGIN:STANDARD
TZOFFSETFROM:+1100
TZOFFSETTO:+1000
TZNAME:AEST
DTSTART:20260404T160000
END:STANDARD
BEGIN:DAYLIGHT
TZOFFSETFROM:+1000
TZOFFSETTO:+1100
TZNAME:AEDT
DTSTART:20261003T160000
END:DAYLIGHT
BEGIN:STANDARD
TZOFFSETFROM:+1100
TZOFFSETTO:+1000
TZNAME:AEST
DTSTART:20270403T160000
END:STANDARD
BEGIN:DAYLIGHT
TZOFFSETFROM:+1000
TZOFFSETTO:+1100
TZNAME:AEDT
DTSTART:20271002T160000
END:DAYLIGHT
END:VTIMEZONE
BEGIN:VEVENT
DTSTART;VALUE=DATE:20260201
DTEND;VALUE=DATE:20260206
DTSTAMP:20260423T232917
CREATED:20260201T053229Z
LAST-MODIFIED:20260201T053229Z
UID:4736-1769904000-1770335999@heartcentredreiki.com.au
SUMMARY:World Animal Reiki Day Your opportunity to get a free reiki for your pet
DESCRIPTION:World Animal Reiki Day is on 5th February\, to celebrate we are giving you a chance to get a free reiki treatment for your animal companion. \nReiki provides a lot of benefits for animals including: \n\nreducing stress and anxiety\nreducing pain and supporting health and wellbeing\nemotional support\nsupport with grief\nsupport with transition at end of life\n\nJust like my Facebook page and DM Heart Centred Reiki for a chance to go into the draw. The Reiki can take place at a time that works for you and I any time within the next few months.
URL:https://heartcentredreiki.com.au/event/world-animal-reiki-day-your-opportunity-to-get-a-free-reiki-for-your-pet/
CATEGORIES:Animals
ATTACH;FMTTYPE=image/png:https://heartcentredreiki.com.au/wp-content/uploads/2024/05/Animal-reiki-1-300x300-1.png
END:VEVENT
BEGIN:VEVENT
DTSTART;TZID=Australia/Melbourne:20260207T093000
DTEND;TZID=Australia/Melbourne:20260208T150000
DTSTAMP:20260423T232917
CREATED:20251217T075705Z
LAST-MODIFIED:20260116T092504Z
UID:4652-1770456600-1770562800@heartcentredreiki.com.au
SUMMARY:Activate your Chakras to Manifest your Purpose 2026
DESCRIPTION:This two-day workshop focuses on the power of our chakras to identify and heal old patterns and identify what you need to do to embody your full potential. \nWe use guiding questions\, chakra specific meditations\, support to use the tools available and meaningful exercises\, to identify your purpose; the challenges that block you; and the tools to influence your emotional\, physical\, mental and spiritual wellbeing. Leave after two blissful days with a plan that outlines your purpose\, (business\, work\, relationships\, finances….) and the steps required by you to bring it to fruition. \nDate Februrary 7-8 \nCost 145 \nEarly Bird Cost $120 Get your Early Bird Ticket before January 31!
URL:https://heartcentredreiki.com.au/event/activate-your-chakras-to-manifest-your-purpose/
CATEGORIES:Class,People,Retreat
ATTACH;FMTTYPE=image/jpeg:https://heartcentredreiki.com.au/wp-content/uploads/2024/05/pexels-alena-shekhovtcova-7036551.jpg
END:VEVENT
BEGIN:VEVENT
DTSTART;TZID=Australia/Melbourne:20260214T093000
DTEND;TZID=Australia/Melbourne:20260215T163000
DTSTAMP:20260423T232917
CREATED:20251219T015450Z
LAST-MODIFIED:20251219T015450Z
UID:4664-1771061400-1771173000@heartcentredreiki.com.au
SUMMARY:Traditional Usui Reiki Level 1 Class 2026
DESCRIPTION:Learning Reiki 1 provides the opportunity to restore balance\, reduce stress\, get grounded and experience enhanced health. \n\nConnect to the flow of universal energy\nExperience less anxiety\, more energy\, and feel a deep connection to source\n\nEnrol now for early bird prices. \nReiki 1 graduates are supported with access to our private Facebook group and other events in the future. \nCost:$ 370 \nEarly Bird: $  340 \nDate: February 14-5 \nIn order to secure your place in this event you must purchase a ticket using this link. And get in quick to get the early bird discount!
URL:https://heartcentredreiki.com.au/event/traditional-usui-reiki-level-1-class-2026/
CATEGORIES:Class,People
ATTACH;FMTTYPE=image/jpeg:https://heartcentredreiki.com.au/wp-content/uploads/2024/03/Woman-getting-Reiki-Treatment.jpg
END:VEVENT
END:VCALENDAR